BEGIN:VCALENDAR
VERSION:2.0
PRODID:-//East Bay Center for the Performing Arts - ECPv6.15.17.1//NONSGML v1.0//EN
CALSCALE:GREGORIAN
METHOD:PUBLISH
X-WR-CALNAME:East Bay Center for the Performing Arts
X-ORIGINAL-URL:https://eastbaycenter.org
X-WR-CALDESC:Events for East Bay Center for the Performing Arts
REFRESH-INTERVAL;VALUE=DURATION:PT1H
X-Robots-Tag:noindex
X-PUBLISHED-TTL:PT1H
BEGIN:VTIMEZONE
TZID:America/Los_Angeles
BEGIN:DAYLIGHT
TZOFFSETFROM:-0800
TZOFFSETTO:-0700
TZNAME:PDT
DTSTART:20220313T100000
END:DAYLIGHT
BEGIN:STANDARD
TZOFFSETFROM:-0700
TZOFFSETTO:-0800
TZNAME:PST
DTSTART:20221106T090000
END:STANDARD
BEGIN:DAYLIGHT
TZOFFSETFROM:-0800
TZOFFSETTO:-0700
TZNAME:PDT
DTSTART:20230312T100000
END:DAYLIGHT
BEGIN:STANDARD
TZOFFSETFROM:-0700
TZOFFSETTO:-0800
TZNAME:PST
DTSTART:20231105T090000
END:STANDARD
BEGIN:DAYLIGHT
TZOFFSETFROM:-0800
TZOFFSETTO:-0700
TZNAME:PDT
DTSTART:20240310T100000
END:DAYLIGHT
BEGIN:STANDARD
TZOFFSETFROM:-0700
TZOFFSETTO:-0800
TZNAME:PST
DTSTART:20241103T090000
END:STANDARD
END:VTIMEZONE
BEGIN:VEVENT
DTSTART;TZID=America/Los_Angeles:20230506T170000
DTEND;TZID=America/Los_Angeles:20230506T190000
DTSTAMP:20260421T024151
CREATED:20230131T213732Z
LAST-MODIFIED:20230428T192955Z
UID:10000079-1683392400-1683399600@eastbaycenter.org
SUMMARY:Young Artists Repertory Series
DESCRIPTION:This year\, we are celebrating our 29th season of presenting new work by Center resident youth companies. Read more about our resident companies here. \nPerforming this year: Voices of Reason\, Son de la Tierra\, Richmond Chamber Ensemble and Iron Triangle Theater. \nTickets: https://www.vancoevents.com/BVIO
URL:https://eastbaycenter.org/event/young-artists-repertory-series/
LOCATION:East Bay Center for the Performing Arts\, 339 11th Street\, Richmond\, CA\, 94801-3105\, United States
CATEGORIES:May 2023
ATTACH;FMTTYPE=image/jpeg:https://eastbaycenter.org/wp-content/uploads/2022/04/YOUNG-ARTIST-REPERTORY-SERIES-II--e1679529647524.jpg
GEO:37.9361029;-122.361416
X-APPLE-STRUCTURED-LOCATION;VALUE=URI;X-ADDRESS=East Bay Center for the Performing Arts 339 11th Street Richmond CA 94801-3105 United States;X-APPLE-RADIUS=500;X-TITLE=339 11th Street:geo:-122.361416,37.9361029
END:VEVENT
END:VCALENDAR